BEGIN:VCALENDAR
VERSION:2.0
PRODID:-//Bma India - ECPv6.15.15//NONSGML v1.0//EN
CALSCALE:GREGORIAN
METHOD:PUBLISH
X-ORIGINAL-URL:https://bma-india.com
X-WR-CALDESC:Events for Bma India
REFRESH-INTERVAL;VALUE=DURATION:PT1H
X-Robots-Tag:noindex
X-PUBLISHED-TTL:PT1H
BEGIN:VTIMEZONE
TZID:Asia/Kolkata
BEGIN:STANDARD
TZOFFSETFROM:+0530
TZOFFSETTO:+0530
TZNAME:IST
DTSTART:20240101T000000
END:STANDARD
END:VTIMEZONE
BEGIN:VTIMEZONE
TZID:UTC
BEGIN:STANDARD
TZOFFSETFROM:+0000
TZOFFSETTO:+0000
TZNAME:UTC
DTSTART:20250101T000000
END:STANDARD
END:VTIMEZONE
BEGIN:VEVENT
DTSTART;VALUE=DATE:20251116
DTEND;VALUE=DATE:20251117
DTSTAMP:20260424T054231
CREATED:20260103T092246Z
LAST-MODIFIED:20260103T102600Z
UID:9854-1763251200-1763337599@bma-india.com
SUMMARY:Webinar – Ducking Nonsense
DESCRIPTION:Event – Webinar\nBMA hosted an online webinar on the topic ‘Ducking Nonsense’ by Santosh Dayal. The session offered practical leadership insights\, real-life workplace experiences\, and simple strategies to manage challenges with clarity\, confidence\, and composure. \n\nPractical leadership insights\nSimple approaches to workplace challenges\nEmphasis on clarity and calm decision-making\nReal-life professional experiences shared\n\nBMA hosted an online webinar titled Ducking Nonsense\, led by Santosh Dayal\, focusing on practical leadership and workplace effectiveness. The session offered participants valuable insights drawn from real-life professional experiences. The speaker emphasized the importance of clarity\, confidence\, and calm thinking while navigating everyday workplace challenges. Through relatable examples and simple strategies\, the webinar addressed common organizational issues and provided actionable solutions. Participants gained a better understanding of how effective leadership involves filtering distractions\, maintaining focus\, and responding thoughtfully rather than reactively. The interactive and engaging nature of the session made the learning experience impactful. Overall\, the webinar successfully equipped attendees with practical tools and perspectives to enhance their leadership approach and professional effectiveness.
URL:https://bma-india.com/event/webinar-ducking-nonsense/
LOCATION:Online
ATTACH;FMTTYPE=image/jpeg:https://bma-india.com/wp-content/uploads/2026/01/sm4-1.jpg
END:VEVENT
BEGIN:VEVENT
DTSTART;VALUE=DATE:20251122
DTEND;VALUE=DATE:20251123
DTSTAMP:20260424T054231
CREATED:20260103T011153Z
LAST-MODIFIED:20260103T102722Z
UID:9816-1763769600-1763855999@bma-india.com
SUMMARY:The Final Word
DESCRIPTION:Event – Competition\n\n\n\nThe Final Word was a debate competition that brought together students from management institutes. Participants expressed ideas with confidence and clarity\, demonstrating leadership qualities\, critical thinking\, and strong articulation\, making the event engaging and impactful. \n\n\n\n\nEnhanced public speaking and debate skills\n\n\n\nEncouraged confident expression of ideas\n\n\n\nHighlighted leadership and critical thinking\n\n\n\nFostered healthy intellectual competition\n\n\n\n\nThe Final Word was a debate competition that brought together students from management institutes to exchange ideas on relevant topics. Participants showcased strong communication skills\, confidence\, and clarity while presenting their arguments. The event emphasized logical reasoning\, leadership qualities\, and the ability to think on one’s feet. Students engaged in constructive discussions\, responding thoughtfully to opposing viewpoints and demonstrating analytical depth. The competition created an engaging atmosphere that encouraged respectful debate and meaningful dialogue. By providing a platform for opinion sharing\, The Final Word helped participants sharpen their articulation skills and develop a persuasive communication style. The event successfully reinforced the importance of confident expression and critical thinking\, making it a memorable and impactful experience for everyone involved.\n\n\n\n\n\n\n\n\n\n\n\n\n\n\n\n\n\n\n\n\n\n 
URL:https://bma-india.com/event/the-final-word/
LOCATION:MET Institue of Management
ATTACH;FMTTYPE=image/jpeg:https://bma-india.com/wp-content/uploads/2026/01/sm5.jpg
END:VEVENT
BEGIN:VEVENT
DTSTART;VALUE=DATE:20251126
DTEND;VALUE=DATE:20251127
DTSTAMP:20260424T054231
CREATED:20260103T085227Z
LAST-MODIFIED:20260103T102209Z
UID:9840-1764115200-1764201599@bma-india.com
SUMMARY:L&D and HR Summit
DESCRIPTION:Event – Summit\n  \nBMA organized the L&D and HR Summit at Ginger Hotel\, bringing industry professionals and HR leaders together. The summit featured insightful discussions and knowledge sharing on people practices\, organizational growth\, and workplace development. \n\nInsights into modern HR and people practices\nKnowledge sharing among industry professionals\nFocus on organizational growth and development\nNetworking with HR leaders\n\nThe L&D and HR Summit\, organized by BMA at Ginger Hotel\, brought together industry professionals and HR leaders for insightful discussions on people management and workplace development. The summit focused on learning and development strategies\, evolving HR practices\, and organizational growth in a dynamic business environment. Speakers shared real-world experiences\, best practices\, and innovative approaches to talent management and employee engagement. The event provided attendees with valuable perspectives on building resilient organizations and fostering continuous learning cultures. Participants also benefited from networking opportunities\, enabling meaningful exchanges with peers and experts. Overall\, the summit served as a valuable platform for professional learning and collaboration\, reinforcing the role of HR in driving sustainable business success.
URL:https://bma-india.com/event/ld-and-hr-summit/
LOCATION:Ginger Hotel\, Maharashtra\, India
ATTACH;FMTTYPE=image/jpeg:https://bma-india.com/wp-content/uploads/2026/01/sm2-1.jpg
END:VEVENT
BEGIN:VEVENT
DTSTART;TZID=Asia/Kolkata:20260304T080000
DTEND;TZID=Asia/Kolkata:20260307T170000
DTSTAMP:20260424T054231
CREATED:20260304T062647Z
LAST-MODIFIED:20260307T072141Z
UID:11531-1772611200-1772902800@bma-india.com
SUMMARY:BMA WONDER WOMEN
DESCRIPTION:Step Into the BMA Wonder Woman Challenge 🌸 \nThis International Women’s Day week\, Bombay Management Association invites women to be part of the BMA Wonder Woman Challenge\, taking place from 3rd to 7th March. \nEngage in a daily quiz challenge\, participate each day\, and be among the best 3 participants\, who will be announced during the Women’s Day Webinar on 8th March. \n✨ Open to all women — members & non-members\n🕛 Quiz link shared daily at 12 noon\n🏆 Awards for the Best 3 participants \nA fun challenge and a meaningful experience just for Wonder Women of Mumbai…💜 \n \n  \nDay 5 Participant link \nBMA Wonder Woman Challenge
URL:https://bma-india.com/event/bma-wonder-women/
LOCATION:Online
ATTACH;FMTTYPE=image/png:https://bma-india.com/wp-content/uploads/2026/03/wchallenge.png
END:VEVENT
BEGIN:VEVENT
DTSTART;VALUE=DATE:20261230
DTEND;VALUE=DATE:20261231
DTSTAMP:20260424T054231
CREATED:20260103T001957Z
LAST-MODIFIED:20260106T062514Z
UID:9794-1798588800-1798675199@bma-india.com
SUMMARY:The Columnist
DESCRIPTION:Event – Competition\n\n\n\nThe Columnist was an article writing competition focused on Indian Foreign Policy. Participants from management institutes presented well-researched opinions and thoughtful perspectives\, reflecting strong global awareness\, analytical ability\, and effective written communication skills. \n\n\n\n\nEncouraged critical thinking on Indian Foreign Policy\n\n\n\nStrengthened research and analytical writing skills\n\n\n\nPromoted global awareness among management students\n\n\n\nProvided a platform for expressing informed opinions\n\n\n\n\nThe Columnist was an article writing competition centered on the theme of Indian Foreign Policy\, aimed at fostering analytical thinking and informed expression among management students. Participants from various institutes presented well-researched articles that reflected a deep understanding of global affairs\, diplomacy\, and India’s international positioning. The event encouraged students to critically evaluate current foreign policy issues and articulate their viewpoints with clarity and structure. Through thoughtful perspectives and strong arguments\, participants demonstrated their ability to connect theoretical knowledge with real-world geopolitical developments. The competition not only enhanced writing and research skills but also nurtured awareness of international relations and policy-making processes. Overall\, The Columnist successfully created an intellectually stimulating environment that promoted meaningful discourse and highlighted the importance of informed opinion-building in management education.\n\n 
URL:https://bma-india.com/event/the-columnist/
LOCATION:Online
ATTACH;FMTTYPE=image/jpeg:https://bma-india.com/wp-content/uploads/2026/01/sm1-1.jpg
END:VEVENT
BEGIN:VEVENT
DTSTART;VALUE=DATE:20261230
DTEND;VALUE=DATE:20261231
DTSTAMP:20260424T054231
CREATED:20260103T101159Z
LAST-MODIFIED:20260122T101313Z
UID:9880-1798588800-1798675199@bma-india.com
SUMMARY:Learning Blaze
DESCRIPTION:Event-Magazine\nLearning Blaze is BMA’s monthly e-magazine featuring editions such as the President’s Edition and Edvantage. It serves as a platform to share knowledge\, insights\, and ideas\, promoting continuous learning\, awareness\, and professional development. \n\nPlatform for continuous learning\nKnowledge sharing across diverse topics\nEncourages professional development\nEnhances organizational communication\n\nLearning Blaze is BMA’s monthly e-magazine designed to promote continuous learning and knowledge sharing. Featuring editions such as the President’s Edition and Edvantage\, the magazine covers a wide range of topics relevant to professionals and students alike. It serves as a platform to share insights\, ideas\, and perspectives\, encouraging awareness and intellectual growth. Learning Blaze supports professional development by providing readers with curated content that is informative and engaging. As an online initiative\, it enables easy access to knowledge and fosters a culture of learning within the BMA community. Overall\, Learning Blaze plays an important role in strengthening communication\, sharing expertise\, and promoting lifelong learning.
URL:https://bma-india.com/event/learning-blaze/
LOCATION:Online
ATTACH;FMTTYPE=image/png:https://bma-india.com/wp-content/uploads/2026/01/eve14.png
END:VEVENT
END:VCALENDAR