BEGIN:VCALENDAR
VERSION:2.0
PRODID:-//Bma India - ECPv6.15.15//NONSGML v1.0//EN
CALSCALE:GREGORIAN
METHOD:PUBLISH
X-WR-CALNAME:Bma India
X-ORIGINAL-URL:https://bma-india.com
X-WR-CALDESC:Events for Bma India
REFRESH-INTERVAL;VALUE=DURATION:PT1H
X-Robots-Tag:noindex
X-PUBLISHED-TTL:PT1H
BEGIN:VTIMEZONE
TZID:Asia/Kolkata
BEGIN:STANDARD
TZOFFSETFROM:+0530
TZOFFSETTO:+0530
TZNAME:IST
DTSTART:20240101T000000
END:STANDARD
END:VTIMEZONE
BEGIN:VEVENT
DTSTART;VALUE=DATE:20250403
DTEND;VALUE=DATE:20250404
DTSTAMP:20260424T205343
CREATED:20260103T100936Z
LAST-MODIFIED:20260103T100936Z
UID:9878-1743638400-1743724799@bma-india.com
SUMMARY:CSR & Corporate Governance Power Talk
DESCRIPTION:Event- Session\nBMA successfully hosted a Power Talk on CSR and Corporate Governance. Industry leaders shared real-world insights on ethical leadership\, responsible business practices\, and social impact\, encouraging meaningful discussions on governance and sustainable growth. \n\nImportance of ethical leadership\nInsights into responsible business practices\nEmphasis on social impact\nAwareness of governance frameworks\n\nBMA hosted a Power Talk on CSR and Corporate Governance\, featuring industry leaders who shared real-world insights on ethical and responsible leadership. The session focused on the role of corporate governance in ensuring transparency\, accountability\, and long-term sustainability. Speakers discussed how organizations can integrate social responsibility into their core strategies to create positive societal impact. The event encouraged meaningful conversations around ethical decision-making and sustainable business practices. Participants gained a deeper understanding of governance frameworks and the importance of aligning business objectives with social values. Overall\, the Power Talk served as an informative platform that reinforced the significance of responsible leadership in today’s corporate environment.
URL:https://bma-india.com/event/csr-corporate-governance-power-talk/
LOCATION:BMA Office\, India
END:VEVENT
END:VCALENDAR