BEGIN:VCALENDAR
VERSION:2.0
PRODID:-//Bma India - ECPv6.15.15//NONSGML v1.0//EN
CALSCALE:GREGORIAN
METHOD:PUBLISH
X-WR-CALNAME:Bma India
X-ORIGINAL-URL:https://bma-india.com
X-WR-CALDESC:Events for Bma India
REFRESH-INTERVAL;VALUE=DURATION:PT1H
X-Robots-Tag:noindex
X-PUBLISHED-TTL:PT1H
BEGIN:VTIMEZONE
TZID:Asia/Kolkata
BEGIN:STANDARD
TZOFFSETFROM:+0530
TZOFFSETTO:+0530
TZNAME:IST
DTSTART:20240101T000000
END:STANDARD
END:VTIMEZONE
BEGIN:VEVENT
DTSTART;VALUE=DATE:20251116
DTEND;VALUE=DATE:20251117
DTSTAMP:20260424T053701
CREATED:20260103T092246Z
LAST-MODIFIED:20260103T102600Z
UID:9854-1763251200-1763337599@bma-india.com
SUMMARY:Webinar – Ducking Nonsense
DESCRIPTION:Event – Webinar\nBMA hosted an online webinar on the topic ‘Ducking Nonsense’ by Santosh Dayal. The session offered practical leadership insights\, real-life workplace experiences\, and simple strategies to manage challenges with clarity\, confidence\, and composure. \n\nPractical leadership insights\nSimple approaches to workplace challenges\nEmphasis on clarity and calm decision-making\nReal-life professional experiences shared\n\nBMA hosted an online webinar titled Ducking Nonsense\, led by Santosh Dayal\, focusing on practical leadership and workplace effectiveness. The session offered participants valuable insights drawn from real-life professional experiences. The speaker emphasized the importance of clarity\, confidence\, and calm thinking while navigating everyday workplace challenges. Through relatable examples and simple strategies\, the webinar addressed common organizational issues and provided actionable solutions. Participants gained a better understanding of how effective leadership involves filtering distractions\, maintaining focus\, and responding thoughtfully rather than reactively. The interactive and engaging nature of the session made the learning experience impactful. Overall\, the webinar successfully equipped attendees with practical tools and perspectives to enhance their leadership approach and professional effectiveness.
URL:https://bma-india.com/event/webinar-ducking-nonsense/
LOCATION:Online
ATTACH;FMTTYPE=image/jpeg:https://bma-india.com/wp-content/uploads/2026/01/sm4-1.jpg
END:VEVENT
END:VCALENDAR