BEGIN:VCALENDAR
VERSION:2.0
PRODID:-//Bma India - ECPv6.15.15//NONSGML v1.0//EN
CALSCALE:GREGORIAN
METHOD:PUBLISH
X-ORIGINAL-URL:https://bma-india.com
X-WR-CALDESC:Events for Bma India
REFRESH-INTERVAL;VALUE=DURATION:PT1H
X-Robots-Tag:noindex
X-PUBLISHED-TTL:PT1H
BEGIN:VTIMEZONE
TZID:Asia/Kolkata
BEGIN:STANDARD
TZOFFSETFROM:+0530
TZOFFSETTO:+0530
TZNAME:IST
DTSTART:20240101T000000
END:STANDARD
END:VTIMEZONE
BEGIN:VEVENT
DTSTART;VALUE=DATE:20250509
DTEND;VALUE=DATE:20250510
DTSTAMP:20260424T140612
CREATED:20260103T100435Z
LAST-MODIFIED:20260103T102340Z
UID:9871-1746748800-1746835199@bma-india.com
SUMMARY:Pharma SFA Summit & Awards
DESCRIPTION:Event- Summit\nThe Pharma SFA Summit and Awards were held at JW Marriott\, bringing together leaders and professionals from the pharmaceutical industry. The event included insightful discussions\, knowledge exchange\, and recognition of excellence\, making it a meaningful and impactful gathering. \n\nIndustry-wide knowledge sharing\nRecognition of excellence in pharma sector\nNetworking among pharma professionals\nInsightful discussions on industry trends\n\nThe Pharma SFA Summit and Awards\, held at JW Marriott\, brought together leaders and professionals from the pharmaceutical industry for an impactful gathering. The event featured insightful discussions on industry trends\, best practices\, and evolving challenges in the pharma sector. Experts shared knowledge and experiences\, fostering meaningful learning and collaboration among participants. A key highlight of the event was the recognition of excellence through awards\, celebrating outstanding achievements and contributions within the industry. The summit provided a platform for networking\, enabling professionals to exchange ideas and strengthen industry connections. Overall\, the event successfully combined knowledge sharing with recognition\, making it a memorable and valuable experience for the pharma community. \n   \n 
URL:https://bma-india.com/event/pharma-sfa-summit-awards/
LOCATION:JW Marriott
ATTACH;FMTTYPE=image/jpeg:https://bma-india.com/wp-content/uploads/2026/01/sm3.jpg
END:VEVENT
END:VCALENDAR